



BEGIN:VCALENDAR
VERSION:2.0
PRODID:-//Alethya
 //NONSGML Events //EN
CALSCALE:GREGORIAN
X-WR-CALNAME:Alethya
BEGIN:VEVENT
CREATED:20210609T164422Z
UID:7588
DTEND;VALUE=DATE:20260423T134444Z
DTSTART;VALUE=DATE:20260423T134444Z
DTSTAMP:20260423T134444Z
LOCATION:
DESCRIPTION:Reminder for &#8216\;Bulletproof&#8217\;- download for free now
SUMMARY:&#8216;Bulletproof&#8217;- download for free now
ORGANIZER:Alethya
URL;VALUE=URI:https://www.alethya.com/events/coaching-anita-cassidy/
TRANSP:OPAQUE
BEGIN:VALARM
ACTION:DISPLAY
TRIGGER;VALUE=DATE-TIME:
DESCRIPTION:Reminder for &#8216\;Bulletproof&#8217\;- download for free now
END:VALARM
END:VEVENT
END:VCALENDAR
