



BEGIN:VCALENDAR
VERSION:2.0
PRODID:-//Alethya
 //NONSGML Events //EN
CALSCALE:GREGORIAN
X-WR-CALNAME:Alethya
BEGIN:VEVENT
CREATED:20240519T083528Z
UID:8040
DTEND;VALUE=DATE:20260423T134444Z
DTSTART;VALUE=DATE:20260423T134444Z
DTSTAMP:20260423T134444Z
LOCATION:
DESCRIPTION:Reminder for Appetite &#8211\; read the first 3 chapters
SUMMARY:Appetite &#8211; read the first 3 chapters
ORGANIZER:Alethya
URL;VALUE=URI:https://www.alethya.com/events/appetite-read-the-first-3-chapters/
TRANSP:OPAQUE
BEGIN:VALARM
ACTION:DISPLAY
TRIGGER;VALUE=DATE-TIME:
DESCRIPTION:Reminder for Appetite &#8211\; read the first 3 chapters
END:VALARM
END:VEVENT
END:VCALENDAR
